BEGIN:VCALENDAR
VERSION:2.0
PRODID:-//Ashva Yoga - ECPv6.15.20//NONSGML v1.0//EN
CALSCALE:GREGORIAN
METHOD:PUBLISH
X-ORIGINAL-URL:https://ashvayoga.com
X-WR-CALDESC:Events for Ashva Yoga
REFRESH-INTERVAL;VALUE=DURATION:PT1H
X-Robots-Tag:noindex
X-PUBLISHED-TTL:PT1H
BEGIN:VTIMEZONE
TZID:America/Denver
BEGIN:DAYLIGHT
TZOFFSETFROM:-0700
TZOFFSETTO:-0600
TZNAME:MDT
DTSTART:20240310T090000
END:DAYLIGHT
BEGIN:STANDARD
TZOFFSETFROM:-0600
TZOFFSETTO:-0700
TZNAME:MST
DTSTART:20241103T080000
END:STANDARD
BEGIN:DAYLIGHT
TZOFFSETFROM:-0700
TZOFFSETTO:-0600
TZNAME:MDT
DTSTART:20250309T090000
END:DAYLIGHT
BEGIN:STANDARD
TZOFFSETFROM:-0600
TZOFFSETTO:-0700
TZNAME:MST
DTSTART:20251102T080000
END:STANDARD
BEGIN:DAYLIGHT
TZOFFSETFROM:-0700
TZOFFSETTO:-0600
TZNAME:MDT
DTSTART:20260308T090000
END:DAYLIGHT
BEGIN:STANDARD
TZOFFSETFROM:-0600
TZOFFSETTO:-0700
TZNAME:MST
DTSTART:20261101T080000
END:STANDARD
END:VTIMEZONE
BEGIN:VEVENT
DTSTART;TZID=America/Denver:20250412T140000
DTEND;TZID=America/Denver:20250412T160000
DTSTAMP:20260424T010738
CREATED:20250210T220148Z
LAST-MODIFIED:20250210T220148Z
UID:2223-1744466400-1744473600@ashvayoga.com
SUMMARY:Yoga & Art
DESCRIPTION:Start your session off with a 30-40 minute yoga practice with Danny to spice up your creativity and then learn from Jill Stewart\, owner of Create! \nPaint a colorful rooster with your friends while enjoying light snacks and beverages! \nExperience includes a 4×4” mini canvas with pre-sketched design\, acrylic paints\, palette paper\, brushes\, apron\, live painting instruction to follow along with and a mini easel to display your work of art! \nSign up here! \n$40 a person.
URL:https://ashvayoga.com/event/yoga-art/
LOCATION:Buka Yoga\, 723 North Wilcox Street\, Castle Rock\, CO\, 80104\, United States
CATEGORIES:Studio Yoga
ATTACH;FMTTYPE=image/jpeg:https://ashvayoga.com/wp-content/uploads/2025/02/IMG_8337-1.jpeg
END:VEVENT
END:VCALENDAR