BEGIN:VCALENDAR
VERSION:2.0
PRODID:-//Ashva Yoga - ECPv6.15.20//NONSGML v1.0//EN
CALSCALE:GREGORIAN
METHOD:PUBLISH
X-ORIGINAL-URL:https://ashvayoga.com
X-WR-CALDESC:Events for Ashva Yoga
REFRESH-INTERVAL;VALUE=DURATION:PT1H
X-Robots-Tag:noindex
X-PUBLISHED-TTL:PT1H
BEGIN:VTIMEZONE
TZID:America/Denver
BEGIN:DAYLIGHT
TZOFFSETFROM:-0700
TZOFFSETTO:-0600
TZNAME:MDT
DTSTART:20250309T090000
END:DAYLIGHT
BEGIN:STANDARD
TZOFFSETFROM:-0600
TZOFFSETTO:-0700
TZNAME:MST
DTSTART:20251102T080000
END:STANDARD
BEGIN:DAYLIGHT
TZOFFSETFROM:-0700
TZOFFSETTO:-0600
TZNAME:MDT
DTSTART:20260308T090000
END:DAYLIGHT
BEGIN:STANDARD
TZOFFSETFROM:-0600
TZOFFSETTO:-0700
TZNAME:MST
DTSTART:20261101T080000
END:STANDARD
BEGIN:DAYLIGHT
TZOFFSETFROM:-0700
TZOFFSETTO:-0600
TZNAME:MDT
DTSTART:20270314T090000
END:DAYLIGHT
BEGIN:STANDARD
TZOFFSETFROM:-0600
TZOFFSETTO:-0700
TZNAME:MST
DTSTART:20271107T080000
END:STANDARD
END:VTIMEZONE
BEGIN:VEVENT
DTSTART;TZID=America/Denver:20260425T100000
DTEND;TZID=America/Denver:20260425T120000
DTSTAMP:20260424T051223
CREATED:20250629T200615Z
LAST-MODIFIED:20260330T012633Z
UID:2258-1777111200-1777118400@ashvayoga.com
SUMMARY:Equestrian Yoga at Chapparo Ranch
DESCRIPTION:Breathe. Move. Ride as one. \nExperience how slowing down and tuning in changes everything – for you and your horse.\n✨ Increase presence\, trust\, and body awareness.\n🐴 Create a calm and responsive partnership.\n🍃 No flexibility or yoga experience needed. \nWhat is Equestrian Yoga? Do you want to feel good in your body when you’re done riding? Do you want to gain flexibility so you can sit deeper and more safely in the saddle? Do you need to rebuild trust in your horse again? Do you want to deepen your connection with your horse? \nEquestrian Yoga can help you overcome these challenges. It gives you tools to use when you’re at a horse show\, riding out on the trail\, or just being around your horse. The practice allows you to get out of your busy mind and become more in tune with your physical body\, which is what connects you with your horse. It allows you to discover what your strengths\, weaknesses\, and imbalances are\, and how it affects your riding and overall performance with your horse. This powerful practice shows you how using your breath can help your horse to relax and become more focused on you. Your horse will thank you! \nEquestrian Yoga complements any riding discipline and is suitable for horses and riders of all ages and abilities. \nBring your own horse. No previous yoga experience is required. \nDon’t have your own horse? Contact us to partner with one of our horses. \nSpace limited to 5 students\, sign up early! \nWhere? Chapparo Ranch in Castle Rock\, CO\n(10 minutes west of downtown Castle Rock.) \nIf you’d like to stay longer\, bring a lunch for after the practice and enjoy a ride through the neighborhood on the dirt roads. (*With own horse only.) \n\n\nSign up here
URL:https://ashvayoga.com/event/equestrian-yoga-at-chapparo-ranch-7/
LOCATION:Chapparo Ranch\, Castle Rock\, CO\, 80109\, United States
CATEGORIES:Equestrian Yoga
ATTACH;FMTTYPE=image/jpeg:https://ashvayoga.com/wp-content/uploads/2025/06/IMG_2829-scaled.jpeg
END:VEVENT
BEGIN:VEVENT
DTSTART;TZID=America/Denver:20260531T100000
DTEND;TZID=America/Denver:20260531T133000
DTSTAMP:20260424T051223
CREATED:20230718T033742Z
LAST-MODIFIED:20260330T010422Z
UID:1965-1780221600-1780234200@ashvayoga.com
SUMMARY:Yoga + Horses + Anatomy
DESCRIPTION:Yoga + Horses + Anatomy 🐴🧘‍♀️\n\nSomething exciting is coming…\n\n\nI’m teaming up with Shannon Watkins from Forever Young Equine Therapy Solutions LLC for a unique clinic.\n\nSave the date: May 31 ✨\n\nMore details soon. Stay tuned.
URL:https://ashvayoga.com/event/equestrian-yoga-at-chapparo-ranch-4/
LOCATION:Chapparo Ranch\, Castle Rock\, CO\, 80109\, United States
CATEGORIES:Equestrian Yoga
ATTACH;FMTTYPE=image/jpeg:https://ashvayoga.com/wp-content/uploads/2023/07/IMG_7809-scaled.jpeg
END:VEVENT
END:VCALENDAR